BEGIN:VCALENDAR
VERSION:2.0
PRODID:-//HealthTeam Advantage - ECPv6.15.20//NONSGML v1.0//EN
CALSCALE:GREGORIAN
METHOD:PUBLISH
X-WR-CALNAME:HealthTeam Advantage
X-ORIGINAL-URL:https://healthteamadvantage.com
X-WR-CALDESC:Events for HealthTeam Advantage
REFRESH-INTERVAL;VALUE=DURATION:PT1H
X-Robots-Tag:noindex
X-PUBLISHED-TTL:PT1H
BEGIN:VTIMEZONE
TZID:America/New_York
BEGIN:DAYLIGHT
TZOFFSETFROM:-0500
TZOFFSETTO:-0400
TZNAME:EDT
DTSTART:20250309T070000
END:DAYLIGHT
BEGIN:STANDARD
TZOFFSETFROM:-0400
TZOFFSETTO:-0500
TZNAME:EST
DTSTART:20251102T060000
END:STANDARD
BEGIN:DAYLIGHT
TZOFFSETFROM:-0500
TZOFFSETTO:-0400
TZNAME:EDT
DTSTART:20260308T070000
END:DAYLIGHT
BEGIN:STANDARD
TZOFFSETFROM:-0400
TZOFFSETTO:-0500
TZNAME:EST
DTSTART:20261101T060000
END:STANDARD
BEGIN:DAYLIGHT
TZOFFSETFROM:-0500
TZOFFSETTO:-0400
TZNAME:EDT
DTSTART:20270314T070000
END:DAYLIGHT
BEGIN:STANDARD
TZOFFSETFROM:-0400
TZOFFSETTO:-0500
TZNAME:EST
DTSTART:20271107T060000
END:STANDARD
END:VTIMEZONE
BEGIN:VEVENT
DTSTART;TZID=America/New_York:20260421T133000
DTEND;TZID=America/New_York:20260421T153000
DTSTAMP:20260421T103722
CREATED:20240327T155536Z
LAST-MODIFIED:20250221T141243Z
UID:10001833-1776778200-1776785400@healthteamadvantage.com
SUMMARY:A Moment in Time
DESCRIPTION:A Moment in Time is a social gathering of people with any form or stage of dementia as well as their Care Partner.  It is a stigma free environment to gather\, share and enjoy activities and refreshments with people who are going through the same thing. \nReservations are requested but not required. To register or ask questions\, contact Laura Gulledge at (336) 906-0430 or lauragulledge@gmail.com. \n  \n Call to Register
URL:https://healthteamadvantage.com/event/a-moment-in-time/2026-04-21/
LOCATION:Jamestown United Methodist Church\, 403 East Main Street\, Jamestown\, NC\, 27282\, United States
CATEGORIES:Community Events
ATTACH;FMTTYPE=image/jpeg:https://healthteamadvantage.com/wp-content/uploads/2025/02/iStock-1479884365.jpg
END:VEVENT
END:VCALENDAR