BEGIN:VCALENDAR
VERSION:2.0
PRODID:-//HealthTeam Advantage - ECPv6.15.20//NONSGML v1.0//EN
CALSCALE:GREGORIAN
METHOD:PUBLISH
X-WR-CALNAME:HealthTeam Advantage
X-ORIGINAL-URL:https://healthteamadvantage.com
X-WR-CALDESC:Events for HealthTeam Advantage
REFRESH-INTERVAL;VALUE=DURATION:PT1H
X-Robots-Tag:noindex
X-PUBLISHED-TTL:PT1H
BEGIN:VTIMEZONE
TZID:America/New_York
BEGIN:DAYLIGHT
TZOFFSETFROM:-0500
TZOFFSETTO:-0400
TZNAME:EDT
DTSTART:20290311T070000
END:DAYLIGHT
BEGIN:STANDARD
TZOFFSETFROM:-0400
TZOFFSETTO:-0500
TZNAME:EST
DTSTART:20291104T060000
END:STANDARD
BEGIN:DAYLIGHT
TZOFFSETFROM:-0500
TZOFFSETTO:-0400
TZNAME:EDT
DTSTART:20300310T070000
END:DAYLIGHT
BEGIN:STANDARD
TZOFFSETFROM:-0400
TZOFFSETTO:-0500
TZNAME:EST
DTSTART:20301103T060000
END:STANDARD
BEGIN:DAYLIGHT
TZOFFSETFROM:-0500
TZOFFSETTO:-0400
TZNAME:EDT
DTSTART:20310309T070000
END:DAYLIGHT
BEGIN:STANDARD
TZOFFSETFROM:-0400
TZOFFSETTO:-0500
TZNAME:EST
DTSTART:20311102T060000
END:STANDARD
BEGIN:DAYLIGHT
TZOFFSETFROM:-0500
TZOFFSETTO:-0400
TZNAME:EDT
DTSTART:20320314T070000
END:DAYLIGHT
BEGIN:STANDARD
TZOFFSETFROM:-0400
TZOFFSETTO:-0500
TZNAME:EST
DTSTART:20321107T060000
END:STANDARD
END:VTIMEZONE
BEGIN:VEVENT
DTSTART;TZID=America/New_York:20300516T130000
DTEND;TZID=America/New_York:20300516T140000
DTSTAMP:20260422T031558
CREATED:20240327T152832Z
LAST-MODIFIED:20250218T152110Z
UID:10002276-1905166800-1905170400@healthteamadvantage.com
SUMMARY:Monthly Bingo at Reidsville Senior Citizens Center
DESCRIPTION:Join us every 3rd Thursday at 1 pm for Bingo! It’s just $1 per person to play\, and trust us\, the prizes are worth it!
URL:https://healthteamadvantage.com/event/monthly-bingo/2030-05-16/
LOCATION:Reidsville Senior Citizens Center\, 102 N Washington Ave\, Reidsville\, NC\, 27320\, United States
CATEGORIES:Community Events
ATTACH;FMTTYPE=image/jpeg:https://healthteamadvantage.com/wp-content/uploads/2024/03/Senior-Bingo.jpg
END:VEVENT
BEGIN:VEVENT
DTSTART;TZID=America/New_York:20300620T130000
DTEND;TZID=America/New_York:20300620T140000
DTSTAMP:20260422T031558
CREATED:20240327T152832Z
LAST-MODIFIED:20250218T152110Z
UID:10002277-1908190800-1908194400@healthteamadvantage.com
SUMMARY:Monthly Bingo at Reidsville Senior Citizens Center
DESCRIPTION:Join us every 3rd Thursday at 1 pm for Bingo! It’s just $1 per person to play\, and trust us\, the prizes are worth it!
URL:https://healthteamadvantage.com/event/monthly-bingo/2030-06-20/
LOCATION:Reidsville Senior Citizens Center\, 102 N Washington Ave\, Reidsville\, NC\, 27320\, United States
CATEGORIES:Community Events
ATTACH;FMTTYPE=image/jpeg:https://healthteamadvantage.com/wp-content/uploads/2024/03/Senior-Bingo.jpg
END:VEVENT
BEGIN:VEVENT
DTSTART;TZID=America/New_York:20300718T130000
DTEND;TZID=America/New_York:20300718T140000
DTSTAMP:20260422T031558
CREATED:20240327T152832Z
LAST-MODIFIED:20250218T152110Z
UID:10002278-1910610000-1910613600@healthteamadvantage.com
SUMMARY:Monthly Bingo at Reidsville Senior Citizens Center
DESCRIPTION:Join us every 3rd Thursday at 1 pm for Bingo! It’s just $1 per person to play\, and trust us\, the prizes are worth it!
URL:https://healthteamadvantage.com/event/monthly-bingo/2030-07-18/
LOCATION:Reidsville Senior Citizens Center\, 102 N Washington Ave\, Reidsville\, NC\, 27320\, United States
CATEGORIES:Community Events
ATTACH;FMTTYPE=image/jpeg:https://healthteamadvantage.com/wp-content/uploads/2024/03/Senior-Bingo.jpg
END:VEVENT
BEGIN:VEVENT
DTSTART;TZID=America/New_York:20300815T130000
DTEND;TZID=America/New_York:20300815T140000
DTSTAMP:20260422T031558
CREATED:20240327T152832Z
LAST-MODIFIED:20250218T152110Z
UID:10002279-1913029200-1913032800@healthteamadvantage.com
SUMMARY:Monthly Bingo at Reidsville Senior Citizens Center
DESCRIPTION:Join us every 3rd Thursday at 1 pm for Bingo! It’s just $1 per person to play\, and trust us\, the prizes are worth it!
URL:https://healthteamadvantage.com/event/monthly-bingo/2030-08-15/
LOCATION:Reidsville Senior Citizens Center\, 102 N Washington Ave\, Reidsville\, NC\, 27320\, United States
CATEGORIES:Community Events
ATTACH;FMTTYPE=image/jpeg:https://healthteamadvantage.com/wp-content/uploads/2024/03/Senior-Bingo.jpg
END:VEVENT
BEGIN:VEVENT
DTSTART;TZID=America/New_York:20300919T130000
DTEND;TZID=America/New_York:20300919T140000
DTSTAMP:20260422T031558
CREATED:20240327T152832Z
LAST-MODIFIED:20250218T152110Z
UID:10002280-1916053200-1916056800@healthteamadvantage.com
SUMMARY:Monthly Bingo at Reidsville Senior Citizens Center
DESCRIPTION:Join us every 3rd Thursday at 1 pm for Bingo! It’s just $1 per person to play\, and trust us\, the prizes are worth it!
URL:https://healthteamadvantage.com/event/monthly-bingo/2030-09-19/
LOCATION:Reidsville Senior Citizens Center\, 102 N Washington Ave\, Reidsville\, NC\, 27320\, United States
CATEGORIES:Community Events
ATTACH;FMTTYPE=image/jpeg:https://healthteamadvantage.com/wp-content/uploads/2024/03/Senior-Bingo.jpg
END:VEVENT
BEGIN:VEVENT
DTSTART;TZID=America/New_York:20301017T130000
DTEND;TZID=America/New_York:20301017T140000
DTSTAMP:20260422T031558
CREATED:20240327T152832Z
LAST-MODIFIED:20250218T152110Z
UID:10002281-1918472400-1918476000@healthteamadvantage.com
SUMMARY:Monthly Bingo at Reidsville Senior Citizens Center
DESCRIPTION:Join us every 3rd Thursday at 1 pm for Bingo! It’s just $1 per person to play\, and trust us\, the prizes are worth it!
URL:https://healthteamadvantage.com/event/monthly-bingo/2030-10-17/
LOCATION:Reidsville Senior Citizens Center\, 102 N Washington Ave\, Reidsville\, NC\, 27320\, United States
CATEGORIES:Community Events
ATTACH;FMTTYPE=image/jpeg:https://healthteamadvantage.com/wp-content/uploads/2024/03/Senior-Bingo.jpg
END:VEVENT
BEGIN:VEVENT
DTSTART;TZID=America/New_York:20301121T130000
DTEND;TZID=America/New_York:20301121T140000
DTSTAMP:20260422T031558
CREATED:20240327T152832Z
LAST-MODIFIED:20250218T152110Z
UID:10002282-1921496400-1921500000@healthteamadvantage.com
SUMMARY:Monthly Bingo at Reidsville Senior Citizens Center
DESCRIPTION:Join us every 3rd Thursday at 1 pm for Bingo! It’s just $1 per person to play\, and trust us\, the prizes are worth it!
URL:https://healthteamadvantage.com/event/monthly-bingo/2030-11-21/
LOCATION:Reidsville Senior Citizens Center\, 102 N Washington Ave\, Reidsville\, NC\, 27320\, United States
CATEGORIES:Community Events
ATTACH;FMTTYPE=image/jpeg:https://healthteamadvantage.com/wp-content/uploads/2024/03/Senior-Bingo.jpg
END:VEVENT
BEGIN:VEVENT
DTSTART;TZID=America/New_York:20301219T130000
DTEND;TZID=America/New_York:20301219T140000
DTSTAMP:20260422T031558
CREATED:20240327T152832Z
LAST-MODIFIED:20250218T152110Z
UID:10002283-1923915600-1923919200@healthteamadvantage.com
SUMMARY:Monthly Bingo at Reidsville Senior Citizens Center
DESCRIPTION:Join us every 3rd Thursday at 1 pm for Bingo! It’s just $1 per person to play\, and trust us\, the prizes are worth it!
URL:https://healthteamadvantage.com/event/monthly-bingo/2030-12-19/
LOCATION:Reidsville Senior Citizens Center\, 102 N Washington Ave\, Reidsville\, NC\, 27320\, United States
CATEGORIES:Community Events
ATTACH;FMTTYPE=image/jpeg:https://healthteamadvantage.com/wp-content/uploads/2024/03/Senior-Bingo.jpg
END:VEVENT
BEGIN:VEVENT
DTSTART;TZID=America/New_York:20310116T130000
DTEND;TZID=America/New_York:20310116T140000
DTSTAMP:20260422T031558
CREATED:20240327T152832Z
LAST-MODIFIED:20250218T152110Z
UID:10002284-1926334800-1926338400@healthteamadvantage.com
SUMMARY:Monthly Bingo at Reidsville Senior Citizens Center
DESCRIPTION:Join us every 3rd Thursday at 1 pm for Bingo! It’s just $1 per person to play\, and trust us\, the prizes are worth it!
URL:https://healthteamadvantage.com/event/monthly-bingo/2031-01-16/
LOCATION:Reidsville Senior Citizens Center\, 102 N Washington Ave\, Reidsville\, NC\, 27320\, United States
CATEGORIES:Community Events
ATTACH;FMTTYPE=image/jpeg:https://healthteamadvantage.com/wp-content/uploads/2024/03/Senior-Bingo.jpg
END:VEVENT
BEGIN:VEVENT
DTSTART;TZID=America/New_York:20310220T130000
DTEND;TZID=America/New_York:20310220T140000
DTSTAMP:20260422T031558
CREATED:20240327T152832Z
LAST-MODIFIED:20250218T152110Z
UID:10002285-1929358800-1929362400@healthteamadvantage.com
SUMMARY:Monthly Bingo at Reidsville Senior Citizens Center
DESCRIPTION:Join us every 3rd Thursday at 1 pm for Bingo! It’s just $1 per person to play\, and trust us\, the prizes are worth it!
URL:https://healthteamadvantage.com/event/monthly-bingo/2031-02-20/
LOCATION:Reidsville Senior Citizens Center\, 102 N Washington Ave\, Reidsville\, NC\, 27320\, United States
CATEGORIES:Community Events
ATTACH;FMTTYPE=image/jpeg:https://healthteamadvantage.com/wp-content/uploads/2024/03/Senior-Bingo.jpg
END:VEVENT
BEGIN:VEVENT
DTSTART;TZID=America/New_York:20310320T130000
DTEND;TZID=America/New_York:20310320T140000
DTSTAMP:20260422T031558
CREATED:20240327T152832Z
LAST-MODIFIED:20250218T152110Z
UID:10002286-1931778000-1931781600@healthteamadvantage.com
SUMMARY:Monthly Bingo at Reidsville Senior Citizens Center
DESCRIPTION:Join us every 3rd Thursday at 1 pm for Bingo! It’s just $1 per person to play\, and trust us\, the prizes are worth it!
URL:https://healthteamadvantage.com/event/monthly-bingo/2031-03-20/
LOCATION:Reidsville Senior Citizens Center\, 102 N Washington Ave\, Reidsville\, NC\, 27320\, United States
CATEGORIES:Community Events
ATTACH;FMTTYPE=image/jpeg:https://healthteamadvantage.com/wp-content/uploads/2024/03/Senior-Bingo.jpg
END:VEVENT
BEGIN:VEVENT
DTSTART;TZID=America/New_York:20310417T130000
DTEND;TZID=America/New_York:20310417T140000
DTSTAMP:20260422T031558
CREATED:20240327T152832Z
LAST-MODIFIED:20250218T152110Z
UID:10002287-1934197200-1934200800@healthteamadvantage.com
SUMMARY:Monthly Bingo at Reidsville Senior Citizens Center
DESCRIPTION:Join us every 3rd Thursday at 1 pm for Bingo! It’s just $1 per person to play\, and trust us\, the prizes are worth it!
URL:https://healthteamadvantage.com/event/monthly-bingo/2031-04-17/
LOCATION:Reidsville Senior Citizens Center\, 102 N Washington Ave\, Reidsville\, NC\, 27320\, United States
CATEGORIES:Community Events
ATTACH;FMTTYPE=image/jpeg:https://healthteamadvantage.com/wp-content/uploads/2024/03/Senior-Bingo.jpg
END:VEVENT
END:VCALENDAR