BEGIN:VCALENDAR
VERSION:2.0
PRODID:-//HealthTeam Advantage - ECPv6.15.20//NONSGML v1.0//EN
CALSCALE:GREGORIAN
METHOD:PUBLISH
X-ORIGINAL-URL:https://healthteamadvantage.com
X-WR-CALDESC:Events for HealthTeam Advantage
REFRESH-INTERVAL;VALUE=DURATION:PT1H
X-Robots-Tag:noindex
X-PUBLISHED-TTL:PT1H
BEGIN:VTIMEZONE
TZID:America/New_York
BEGIN:DAYLIGHT
TZOFFSETFROM:-0500
TZOFFSETTO:-0400
TZNAME:EDT
DTSTART:20270314T070000
END:DAYLIGHT
BEGIN:STANDARD
TZOFFSETFROM:-0400
TZOFFSETTO:-0500
TZNAME:EST
DTSTART:20271107T060000
END:STANDARD
BEGIN:DAYLIGHT
TZOFFSETFROM:-0500
TZOFFSETTO:-0400
TZNAME:EDT
DTSTART:20280312T070000
END:DAYLIGHT
BEGIN:STANDARD
TZOFFSETFROM:-0400
TZOFFSETTO:-0500
TZNAME:EST
DTSTART:20281105T060000
END:STANDARD
BEGIN:DAYLIGHT
TZOFFSETFROM:-0500
TZOFFSETTO:-0400
TZNAME:EDT
DTSTART:20290311T070000
END:DAYLIGHT
BEGIN:STANDARD
TZOFFSETFROM:-0400
TZOFFSETTO:-0500
TZNAME:EST
DTSTART:20291104T060000
END:STANDARD
BEGIN:DAYLIGHT
TZOFFSETFROM:-0500
TZOFFSETTO:-0400
TZNAME:EDT
DTSTART:20300310T070000
END:DAYLIGHT
BEGIN:STANDARD
TZOFFSETFROM:-0400
TZOFFSETTO:-0500
TZNAME:EST
DTSTART:20301103T060000
END:STANDARD
BEGIN:DAYLIGHT
TZOFFSETFROM:-0500
TZOFFSETTO:-0400
TZNAME:EDT
DTSTART:20310309T070000
END:DAYLIGHT
BEGIN:STANDARD
TZOFFSETFROM:-0400
TZOFFSETTO:-0500
TZNAME:EST
DTSTART:20311102T060000
END:STANDARD
END:VTIMEZONE
BEGIN:VEVENT
DTSTART;TZID=America/New_York:20280518T130000
DTEND;TZID=America/New_York:20280518T140000
DTSTAMP:20260421T161450
CREATED:20240327T152832Z
LAST-MODIFIED:20250218T152110Z
UID:10001738-1842267600-1842271200@healthteamadvantage.com
SUMMARY:Monthly Bingo at Reidsville Senior Citizens Center
DESCRIPTION:Join us every 3rd Thursday at 1 pm for Bingo! It’s just $1 per person to play\, and trust us\, the prizes are worth it!
URL:https://healthteamadvantage.com/event/monthly-bingo/2028-05-18/
LOCATION:Reidsville Senior Citizens Center\, 102 N Washington Ave\, Reidsville\, NC\, 27320\, United States
CATEGORIES:Community Events
ATTACH;FMTTYPE=image/jpeg:https://healthteamadvantage.com/wp-content/uploads/2024/03/Senior-Bingo.jpg
END:VEVENT
BEGIN:VEVENT
DTSTART;TZID=America/New_York:20280615T130000
DTEND;TZID=America/New_York:20280615T140000
DTSTAMP:20260421T161450
CREATED:20240327T152832Z
LAST-MODIFIED:20250218T152110Z
UID:10001739-1844686800-1844690400@healthteamadvantage.com
SUMMARY:Monthly Bingo at Reidsville Senior Citizens Center
DESCRIPTION:Join us every 3rd Thursday at 1 pm for Bingo! It’s just $1 per person to play\, and trust us\, the prizes are worth it!
URL:https://healthteamadvantage.com/event/monthly-bingo/2028-06-15/
LOCATION:Reidsville Senior Citizens Center\, 102 N Washington Ave\, Reidsville\, NC\, 27320\, United States
CATEGORIES:Community Events
ATTACH;FMTTYPE=image/jpeg:https://healthteamadvantage.com/wp-content/uploads/2024/03/Senior-Bingo.jpg
END:VEVENT
BEGIN:VEVENT
DTSTART;TZID=America/New_York:20280720T130000
DTEND;TZID=America/New_York:20280720T140000
DTSTAMP:20260421T161450
CREATED:20240327T152832Z
LAST-MODIFIED:20250218T152110Z
UID:10001740-1847710800-1847714400@healthteamadvantage.com
SUMMARY:Monthly Bingo at Reidsville Senior Citizens Center
DESCRIPTION:Join us every 3rd Thursday at 1 pm for Bingo! It’s just $1 per person to play\, and trust us\, the prizes are worth it!
URL:https://healthteamadvantage.com/event/monthly-bingo/2028-07-20/
LOCATION:Reidsville Senior Citizens Center\, 102 N Washington Ave\, Reidsville\, NC\, 27320\, United States
CATEGORIES:Community Events
ATTACH;FMTTYPE=image/jpeg:https://healthteamadvantage.com/wp-content/uploads/2024/03/Senior-Bingo.jpg
END:VEVENT
BEGIN:VEVENT
DTSTART;TZID=America/New_York:20280817T130000
DTEND;TZID=America/New_York:20280817T140000
DTSTAMP:20260421T161450
CREATED:20240327T152832Z
LAST-MODIFIED:20250218T152110Z
UID:10001741-1850130000-1850133600@healthteamadvantage.com
SUMMARY:Monthly Bingo at Reidsville Senior Citizens Center
DESCRIPTION:Join us every 3rd Thursday at 1 pm for Bingo! It’s just $1 per person to play\, and trust us\, the prizes are worth it!
URL:https://healthteamadvantage.com/event/monthly-bingo/2028-08-17/
LOCATION:Reidsville Senior Citizens Center\, 102 N Washington Ave\, Reidsville\, NC\, 27320\, United States
CATEGORIES:Community Events
ATTACH;FMTTYPE=image/jpeg:https://healthteamadvantage.com/wp-content/uploads/2024/03/Senior-Bingo.jpg
END:VEVENT
BEGIN:VEVENT
DTSTART;TZID=America/New_York:20280921T130000
DTEND;TZID=America/New_York:20280921T140000
DTSTAMP:20260421T161450
CREATED:20240327T152832Z
LAST-MODIFIED:20250218T152110Z
UID:10001742-1853154000-1853157600@healthteamadvantage.com
SUMMARY:Monthly Bingo at Reidsville Senior Citizens Center
DESCRIPTION:Join us every 3rd Thursday at 1 pm for Bingo! It’s just $1 per person to play\, and trust us\, the prizes are worth it!
URL:https://healthteamadvantage.com/event/monthly-bingo/2028-09-21/
LOCATION:Reidsville Senior Citizens Center\, 102 N Washington Ave\, Reidsville\, NC\, 27320\, United States
CATEGORIES:Community Events
ATTACH;FMTTYPE=image/jpeg:https://healthteamadvantage.com/wp-content/uploads/2024/03/Senior-Bingo.jpg
END:VEVENT
BEGIN:VEVENT
DTSTART;TZID=America/New_York:20281019T130000
DTEND;TZID=America/New_York:20281019T140000
DTSTAMP:20260421T161450
CREATED:20240327T152832Z
LAST-MODIFIED:20250218T152110Z
UID:10001743-1855573200-1855576800@healthteamadvantage.com
SUMMARY:Monthly Bingo at Reidsville Senior Citizens Center
DESCRIPTION:Join us every 3rd Thursday at 1 pm for Bingo! It’s just $1 per person to play\, and trust us\, the prizes are worth it!
URL:https://healthteamadvantage.com/event/monthly-bingo/2028-10-19/
LOCATION:Reidsville Senior Citizens Center\, 102 N Washington Ave\, Reidsville\, NC\, 27320\, United States
CATEGORIES:Community Events
ATTACH;FMTTYPE=image/jpeg:https://healthteamadvantage.com/wp-content/uploads/2024/03/Senior-Bingo.jpg
END:VEVENT
BEGIN:VEVENT
DTSTART;TZID=America/New_York:20281116T130000
DTEND;TZID=America/New_York:20281116T140000
DTSTAMP:20260421T161450
CREATED:20240327T152832Z
LAST-MODIFIED:20250218T152110Z
UID:10001744-1857992400-1857996000@healthteamadvantage.com
SUMMARY:Monthly Bingo at Reidsville Senior Citizens Center
DESCRIPTION:Join us every 3rd Thursday at 1 pm for Bingo! It’s just $1 per person to play\, and trust us\, the prizes are worth it!
URL:https://healthteamadvantage.com/event/monthly-bingo/2028-11-16/
LOCATION:Reidsville Senior Citizens Center\, 102 N Washington Ave\, Reidsville\, NC\, 27320\, United States
CATEGORIES:Community Events
ATTACH;FMTTYPE=image/jpeg:https://healthteamadvantage.com/wp-content/uploads/2024/03/Senior-Bingo.jpg
END:VEVENT
BEGIN:VEVENT
DTSTART;TZID=America/New_York:20281221T130000
DTEND;TZID=America/New_York:20281221T140000
DTSTAMP:20260421T161450
CREATED:20240327T152832Z
LAST-MODIFIED:20250218T152110Z
UID:10001745-1861016400-1861020000@healthteamadvantage.com
SUMMARY:Monthly Bingo at Reidsville Senior Citizens Center
DESCRIPTION:Join us every 3rd Thursday at 1 pm for Bingo! It’s just $1 per person to play\, and trust us\, the prizes are worth it!
URL:https://healthteamadvantage.com/event/monthly-bingo/2028-12-21/
LOCATION:Reidsville Senior Citizens Center\, 102 N Washington Ave\, Reidsville\, NC\, 27320\, United States
CATEGORIES:Community Events
ATTACH;FMTTYPE=image/jpeg:https://healthteamadvantage.com/wp-content/uploads/2024/03/Senior-Bingo.jpg
END:VEVENT
BEGIN:VEVENT
DTSTART;TZID=America/New_York:20290118T130000
DTEND;TZID=America/New_York:20290118T140000
DTSTAMP:20260421T161450
CREATED:20240327T152832Z
LAST-MODIFIED:20250218T152110Z
UID:10001746-1863435600-1863439200@healthteamadvantage.com
SUMMARY:Monthly Bingo at Reidsville Senior Citizens Center
DESCRIPTION:Join us every 3rd Thursday at 1 pm for Bingo! It’s just $1 per person to play\, and trust us\, the prizes are worth it!
URL:https://healthteamadvantage.com/event/monthly-bingo/2029-01-18/
LOCATION:Reidsville Senior Citizens Center\, 102 N Washington Ave\, Reidsville\, NC\, 27320\, United States
CATEGORIES:Community Events
ATTACH;FMTTYPE=image/jpeg:https://healthteamadvantage.com/wp-content/uploads/2024/03/Senior-Bingo.jpg
END:VEVENT
BEGIN:VEVENT
DTSTART;TZID=America/New_York:20290215T130000
DTEND;TZID=America/New_York:20290215T140000
DTSTAMP:20260421T161450
CREATED:20240327T152832Z
LAST-MODIFIED:20250218T152110Z
UID:10001747-1865854800-1865858400@healthteamadvantage.com
SUMMARY:Monthly Bingo at Reidsville Senior Citizens Center
DESCRIPTION:Join us every 3rd Thursday at 1 pm for Bingo! It’s just $1 per person to play\, and trust us\, the prizes are worth it!
URL:https://healthteamadvantage.com/event/monthly-bingo/2029-02-15/
LOCATION:Reidsville Senior Citizens Center\, 102 N Washington Ave\, Reidsville\, NC\, 27320\, United States
CATEGORIES:Community Events
ATTACH;FMTTYPE=image/jpeg:https://healthteamadvantage.com/wp-content/uploads/2024/03/Senior-Bingo.jpg
END:VEVENT
BEGIN:VEVENT
DTSTART;TZID=America/New_York:20290315T130000
DTEND;TZID=America/New_York:20290315T140000
DTSTAMP:20260421T161450
CREATED:20240327T152832Z
LAST-MODIFIED:20250218T152110Z
UID:10001748-1868274000-1868277600@healthteamadvantage.com
SUMMARY:Monthly Bingo at Reidsville Senior Citizens Center
DESCRIPTION:Join us every 3rd Thursday at 1 pm for Bingo! It’s just $1 per person to play\, and trust us\, the prizes are worth it!
URL:https://healthteamadvantage.com/event/monthly-bingo/2029-03-15/
LOCATION:Reidsville Senior Citizens Center\, 102 N Washington Ave\, Reidsville\, NC\, 27320\, United States
CATEGORIES:Community Events
ATTACH;FMTTYPE=image/jpeg:https://healthteamadvantage.com/wp-content/uploads/2024/03/Senior-Bingo.jpg
END:VEVENT
BEGIN:VEVENT
DTSTART;TZID=America/New_York:20290419T130000
DTEND;TZID=America/New_York:20290419T140000
DTSTAMP:20260421T161450
CREATED:20240327T152832Z
LAST-MODIFIED:20250218T152110Z
UID:10002102-1871298000-1871301600@healthteamadvantage.com
SUMMARY:Monthly Bingo at Reidsville Senior Citizens Center
DESCRIPTION:Join us every 3rd Thursday at 1 pm for Bingo! It’s just $1 per person to play\, and trust us\, the prizes are worth it!
URL:https://healthteamadvantage.com/event/monthly-bingo/2029-04-19/
LOCATION:Reidsville Senior Citizens Center\, 102 N Washington Ave\, Reidsville\, NC\, 27320\, United States
CATEGORIES:Community Events
ATTACH;FMTTYPE=image/jpeg:https://healthteamadvantage.com/wp-content/uploads/2024/03/Senior-Bingo.jpg
END:VEVENT
BEGIN:VEVENT
DTSTART;TZID=America/New_York:20290517T130000
DTEND;TZID=America/New_York:20290517T140000
DTSTAMP:20260421T161450
CREATED:20240327T152832Z
LAST-MODIFIED:20250218T152110Z
UID:10002103-1873717200-1873720800@healthteamadvantage.com
SUMMARY:Monthly Bingo at Reidsville Senior Citizens Center
DESCRIPTION:Join us every 3rd Thursday at 1 pm for Bingo! It’s just $1 per person to play\, and trust us\, the prizes are worth it!
URL:https://healthteamadvantage.com/event/monthly-bingo/2029-05-17/
LOCATION:Reidsville Senior Citizens Center\, 102 N Washington Ave\, Reidsville\, NC\, 27320\, United States
CATEGORIES:Community Events
ATTACH;FMTTYPE=image/jpeg:https://healthteamadvantage.com/wp-content/uploads/2024/03/Senior-Bingo.jpg
END:VEVENT
BEGIN:VEVENT
DTSTART;TZID=America/New_York:20290621T130000
DTEND;TZID=America/New_York:20290621T140000
DTSTAMP:20260421T161450
CREATED:20240327T152832Z
LAST-MODIFIED:20250218T152110Z
UID:10002104-1876741200-1876744800@healthteamadvantage.com
SUMMARY:Monthly Bingo at Reidsville Senior Citizens Center
DESCRIPTION:Join us every 3rd Thursday at 1 pm for Bingo! It’s just $1 per person to play\, and trust us\, the prizes are worth it!
URL:https://healthteamadvantage.com/event/monthly-bingo/2029-06-21/
LOCATION:Reidsville Senior Citizens Center\, 102 N Washington Ave\, Reidsville\, NC\, 27320\, United States
CATEGORIES:Community Events
ATTACH;FMTTYPE=image/jpeg:https://healthteamadvantage.com/wp-content/uploads/2024/03/Senior-Bingo.jpg
END:VEVENT
BEGIN:VEVENT
DTSTART;TZID=America/New_York:20290719T130000
DTEND;TZID=America/New_York:20290719T140000
DTSTAMP:20260421T161450
CREATED:20240327T152832Z
LAST-MODIFIED:20250218T152110Z
UID:10002105-1879160400-1879164000@healthteamadvantage.com
SUMMARY:Monthly Bingo at Reidsville Senior Citizens Center
DESCRIPTION:Join us every 3rd Thursday at 1 pm for Bingo! It’s just $1 per person to play\, and trust us\, the prizes are worth it!
URL:https://healthteamadvantage.com/event/monthly-bingo/2029-07-19/
LOCATION:Reidsville Senior Citizens Center\, 102 N Washington Ave\, Reidsville\, NC\, 27320\, United States
CATEGORIES:Community Events
ATTACH;FMTTYPE=image/jpeg:https://healthteamadvantage.com/wp-content/uploads/2024/03/Senior-Bingo.jpg
END:VEVENT
BEGIN:VEVENT
DTSTART;TZID=America/New_York:20290816T130000
DTEND;TZID=America/New_York:20290816T140000
DTSTAMP:20260421T161450
CREATED:20240327T152832Z
LAST-MODIFIED:20250218T152110Z
UID:10002106-1881579600-1881583200@healthteamadvantage.com
SUMMARY:Monthly Bingo at Reidsville Senior Citizens Center
DESCRIPTION:Join us every 3rd Thursday at 1 pm for Bingo! It’s just $1 per person to play\, and trust us\, the prizes are worth it!
URL:https://healthteamadvantage.com/event/monthly-bingo/2029-08-16/
LOCATION:Reidsville Senior Citizens Center\, 102 N Washington Ave\, Reidsville\, NC\, 27320\, United States
CATEGORIES:Community Events
ATTACH;FMTTYPE=image/jpeg:https://healthteamadvantage.com/wp-content/uploads/2024/03/Senior-Bingo.jpg
END:VEVENT
BEGIN:VEVENT
DTSTART;TZID=America/New_York:20290920T130000
DTEND;TZID=America/New_York:20290920T140000
DTSTAMP:20260421T161450
CREATED:20240327T152832Z
LAST-MODIFIED:20250218T152110Z
UID:10002107-1884603600-1884607200@healthteamadvantage.com
SUMMARY:Monthly Bingo at Reidsville Senior Citizens Center
DESCRIPTION:Join us every 3rd Thursday at 1 pm for Bingo! It’s just $1 per person to play\, and trust us\, the prizes are worth it!
URL:https://healthteamadvantage.com/event/monthly-bingo/2029-09-20/
LOCATION:Reidsville Senior Citizens Center\, 102 N Washington Ave\, Reidsville\, NC\, 27320\, United States
CATEGORIES:Community Events
ATTACH;FMTTYPE=image/jpeg:https://healthteamadvantage.com/wp-content/uploads/2024/03/Senior-Bingo.jpg
END:VEVENT
BEGIN:VEVENT
DTSTART;TZID=America/New_York:20291018T130000
DTEND;TZID=America/New_York:20291018T140000
DTSTAMP:20260421T161450
CREATED:20240327T152832Z
LAST-MODIFIED:20250218T152110Z
UID:10002108-1887022800-1887026400@healthteamadvantage.com
SUMMARY:Monthly Bingo at Reidsville Senior Citizens Center
DESCRIPTION:Join us every 3rd Thursday at 1 pm for Bingo! It’s just $1 per person to play\, and trust us\, the prizes are worth it!
URL:https://healthteamadvantage.com/event/monthly-bingo/2029-10-18/
LOCATION:Reidsville Senior Citizens Center\, 102 N Washington Ave\, Reidsville\, NC\, 27320\, United States
CATEGORIES:Community Events
ATTACH;FMTTYPE=image/jpeg:https://healthteamadvantage.com/wp-content/uploads/2024/03/Senior-Bingo.jpg
END:VEVENT
BEGIN:VEVENT
DTSTART;TZID=America/New_York:20291115T130000
DTEND;TZID=America/New_York:20291115T140000
DTSTAMP:20260421T161450
CREATED:20240327T152832Z
LAST-MODIFIED:20250218T152110Z
UID:10002109-1889442000-1889445600@healthteamadvantage.com
SUMMARY:Monthly Bingo at Reidsville Senior Citizens Center
DESCRIPTION:Join us every 3rd Thursday at 1 pm for Bingo! It’s just $1 per person to play\, and trust us\, the prizes are worth it!
URL:https://healthteamadvantage.com/event/monthly-bingo/2029-11-15/
LOCATION:Reidsville Senior Citizens Center\, 102 N Washington Ave\, Reidsville\, NC\, 27320\, United States
CATEGORIES:Community Events
ATTACH;FMTTYPE=image/jpeg:https://healthteamadvantage.com/wp-content/uploads/2024/03/Senior-Bingo.jpg
END:VEVENT
BEGIN:VEVENT
DTSTART;TZID=America/New_York:20291220T130000
DTEND;TZID=America/New_York:20291220T140000
DTSTAMP:20260421T161450
CREATED:20240327T152832Z
LAST-MODIFIED:20250218T152110Z
UID:10002110-1892466000-1892469600@healthteamadvantage.com
SUMMARY:Monthly Bingo at Reidsville Senior Citizens Center
DESCRIPTION:Join us every 3rd Thursday at 1 pm for Bingo! It’s just $1 per person to play\, and trust us\, the prizes are worth it!
URL:https://healthteamadvantage.com/event/monthly-bingo/2029-12-20/
LOCATION:Reidsville Senior Citizens Center\, 102 N Washington Ave\, Reidsville\, NC\, 27320\, United States
CATEGORIES:Community Events
ATTACH;FMTTYPE=image/jpeg:https://healthteamadvantage.com/wp-content/uploads/2024/03/Senior-Bingo.jpg
END:VEVENT
BEGIN:VEVENT
DTSTART;TZID=America/New_York:20300117T130000
DTEND;TZID=America/New_York:20300117T140000
DTSTAMP:20260421T161450
CREATED:20240327T152832Z
LAST-MODIFIED:20250218T152110Z
UID:10002111-1894885200-1894888800@healthteamadvantage.com
SUMMARY:Monthly Bingo at Reidsville Senior Citizens Center
DESCRIPTION:Join us every 3rd Thursday at 1 pm for Bingo! It’s just $1 per person to play\, and trust us\, the prizes are worth it!
URL:https://healthteamadvantage.com/event/monthly-bingo/2030-01-17/
LOCATION:Reidsville Senior Citizens Center\, 102 N Washington Ave\, Reidsville\, NC\, 27320\, United States
CATEGORIES:Community Events
ATTACH;FMTTYPE=image/jpeg:https://healthteamadvantage.com/wp-content/uploads/2024/03/Senior-Bingo.jpg
END:VEVENT
BEGIN:VEVENT
DTSTART;TZID=America/New_York:20300221T130000
DTEND;TZID=America/New_York:20300221T140000
DTSTAMP:20260421T161450
CREATED:20240327T152832Z
LAST-MODIFIED:20250218T152110Z
UID:10002273-1897909200-1897912800@healthteamadvantage.com
SUMMARY:Monthly Bingo at Reidsville Senior Citizens Center
DESCRIPTION:Join us every 3rd Thursday at 1 pm for Bingo! It’s just $1 per person to play\, and trust us\, the prizes are worth it!
URL:https://healthteamadvantage.com/event/monthly-bingo/2030-02-21/
LOCATION:Reidsville Senior Citizens Center\, 102 N Washington Ave\, Reidsville\, NC\, 27320\, United States
CATEGORIES:Community Events
ATTACH;FMTTYPE=image/jpeg:https://healthteamadvantage.com/wp-content/uploads/2024/03/Senior-Bingo.jpg
END:VEVENT
BEGIN:VEVENT
DTSTART;TZID=America/New_York:20300321T130000
DTEND;TZID=America/New_York:20300321T140000
DTSTAMP:20260421T161450
CREATED:20240327T152832Z
LAST-MODIFIED:20250218T152110Z
UID:10002274-1900328400-1900332000@healthteamadvantage.com
SUMMARY:Monthly Bingo at Reidsville Senior Citizens Center
DESCRIPTION:Join us every 3rd Thursday at 1 pm for Bingo! It’s just $1 per person to play\, and trust us\, the prizes are worth it!
URL:https://healthteamadvantage.com/event/monthly-bingo/2030-03-21/
LOCATION:Reidsville Senior Citizens Center\, 102 N Washington Ave\, Reidsville\, NC\, 27320\, United States
CATEGORIES:Community Events
ATTACH;FMTTYPE=image/jpeg:https://healthteamadvantage.com/wp-content/uploads/2024/03/Senior-Bingo.jpg
END:VEVENT
BEGIN:VEVENT
DTSTART;TZID=America/New_York:20300418T130000
DTEND;TZID=America/New_York:20300418T140000
DTSTAMP:20260421T161450
CREATED:20240327T152832Z
LAST-MODIFIED:20250218T152110Z
UID:10002275-1902747600-1902751200@healthteamadvantage.com
SUMMARY:Monthly Bingo at Reidsville Senior Citizens Center
DESCRIPTION:Join us every 3rd Thursday at 1 pm for Bingo! It’s just $1 per person to play\, and trust us\, the prizes are worth it!
URL:https://healthteamadvantage.com/event/monthly-bingo/2030-04-18/
LOCATION:Reidsville Senior Citizens Center\, 102 N Washington Ave\, Reidsville\, NC\, 27320\, United States
CATEGORIES:Community Events
ATTACH;FMTTYPE=image/jpeg:https://healthteamadvantage.com/wp-content/uploads/2024/03/Senior-Bingo.jpg
END:VEVENT
BEGIN:VEVENT
DTSTART;TZID=America/New_York:20300516T130000
DTEND;TZID=America/New_York:20300516T140000
DTSTAMP:20260421T161450
CREATED:20240327T152832Z
LAST-MODIFIED:20250218T152110Z
UID:10002276-1905166800-1905170400@healthteamadvantage.com
SUMMARY:Monthly Bingo at Reidsville Senior Citizens Center
DESCRIPTION:Join us every 3rd Thursday at 1 pm for Bingo! It’s just $1 per person to play\, and trust us\, the prizes are worth it!
URL:https://healthteamadvantage.com/event/monthly-bingo/2030-05-16/
LOCATION:Reidsville Senior Citizens Center\, 102 N Washington Ave\, Reidsville\, NC\, 27320\, United States
CATEGORIES:Community Events
ATTACH;FMTTYPE=image/jpeg:https://healthteamadvantage.com/wp-content/uploads/2024/03/Senior-Bingo.jpg
END:VEVENT
BEGIN:VEVENT
DTSTART;TZID=America/New_York:20300620T130000
DTEND;TZID=America/New_York:20300620T140000
DTSTAMP:20260421T161450
CREATED:20240327T152832Z
LAST-MODIFIED:20250218T152110Z
UID:10002277-1908190800-1908194400@healthteamadvantage.com
SUMMARY:Monthly Bingo at Reidsville Senior Citizens Center
DESCRIPTION:Join us every 3rd Thursday at 1 pm for Bingo! It’s just $1 per person to play\, and trust us\, the prizes are worth it!
URL:https://healthteamadvantage.com/event/monthly-bingo/2030-06-20/
LOCATION:Reidsville Senior Citizens Center\, 102 N Washington Ave\, Reidsville\, NC\, 27320\, United States
CATEGORIES:Community Events
ATTACH;FMTTYPE=image/jpeg:https://healthteamadvantage.com/wp-content/uploads/2024/03/Senior-Bingo.jpg
END:VEVENT
BEGIN:VEVENT
DTSTART;TZID=America/New_York:20300718T130000
DTEND;TZID=America/New_York:20300718T140000
DTSTAMP:20260421T161450
CREATED:20240327T152832Z
LAST-MODIFIED:20250218T152110Z
UID:10002278-1910610000-1910613600@healthteamadvantage.com
SUMMARY:Monthly Bingo at Reidsville Senior Citizens Center
DESCRIPTION:Join us every 3rd Thursday at 1 pm for Bingo! It’s just $1 per person to play\, and trust us\, the prizes are worth it!
URL:https://healthteamadvantage.com/event/monthly-bingo/2030-07-18/
LOCATION:Reidsville Senior Citizens Center\, 102 N Washington Ave\, Reidsville\, NC\, 27320\, United States
CATEGORIES:Community Events
ATTACH;FMTTYPE=image/jpeg:https://healthteamadvantage.com/wp-content/uploads/2024/03/Senior-Bingo.jpg
END:VEVENT
BEGIN:VEVENT
DTSTART;TZID=America/New_York:20300815T130000
DTEND;TZID=America/New_York:20300815T140000
DTSTAMP:20260421T161450
CREATED:20240327T152832Z
LAST-MODIFIED:20250218T152110Z
UID:10002279-1913029200-1913032800@healthteamadvantage.com
SUMMARY:Monthly Bingo at Reidsville Senior Citizens Center
DESCRIPTION:Join us every 3rd Thursday at 1 pm for Bingo! It’s just $1 per person to play\, and trust us\, the prizes are worth it!
URL:https://healthteamadvantage.com/event/monthly-bingo/2030-08-15/
LOCATION:Reidsville Senior Citizens Center\, 102 N Washington Ave\, Reidsville\, NC\, 27320\, United States
CATEGORIES:Community Events
ATTACH;FMTTYPE=image/jpeg:https://healthteamadvantage.com/wp-content/uploads/2024/03/Senior-Bingo.jpg
END:VEVENT
BEGIN:VEVENT
DTSTART;TZID=America/New_York:20300919T130000
DTEND;TZID=America/New_York:20300919T140000
DTSTAMP:20260421T161450
CREATED:20240327T152832Z
LAST-MODIFIED:20250218T152110Z
UID:10002280-1916053200-1916056800@healthteamadvantage.com
SUMMARY:Monthly Bingo at Reidsville Senior Citizens Center
DESCRIPTION:Join us every 3rd Thursday at 1 pm for Bingo! It’s just $1 per person to play\, and trust us\, the prizes are worth it!
URL:https://healthteamadvantage.com/event/monthly-bingo/2030-09-19/
LOCATION:Reidsville Senior Citizens Center\, 102 N Washington Ave\, Reidsville\, NC\, 27320\, United States
CATEGORIES:Community Events
ATTACH;FMTTYPE=image/jpeg:https://healthteamadvantage.com/wp-content/uploads/2024/03/Senior-Bingo.jpg
END:VEVENT
BEGIN:VEVENT
DTSTART;TZID=America/New_York:20301017T130000
DTEND;TZID=America/New_York:20301017T140000
DTSTAMP:20260421T161450
CREATED:20240327T152832Z
LAST-MODIFIED:20250218T152110Z
UID:10002281-1918472400-1918476000@healthteamadvantage.com
SUMMARY:Monthly Bingo at Reidsville Senior Citizens Center
DESCRIPTION:Join us every 3rd Thursday at 1 pm for Bingo! It’s just $1 per person to play\, and trust us\, the prizes are worth it!
URL:https://healthteamadvantage.com/event/monthly-bingo/2030-10-17/
LOCATION:Reidsville Senior Citizens Center\, 102 N Washington Ave\, Reidsville\, NC\, 27320\, United States
CATEGORIES:Community Events
ATTACH;FMTTYPE=image/jpeg:https://healthteamadvantage.com/wp-content/uploads/2024/03/Senior-Bingo.jpg
END:VEVENT
END:VCALENDAR